BEGIN:VCALENDAR
VERSION:2.0
PRODID:-//ChamberMaster//Event Calendar 2.0//EN
METHOD:PUBLISH
X-PUBLISHED-TTL:P1H
REFRESH-INTERVAL:P1H
CALSCALE:GREGORIAN
BEGIN:VTIMEZONE
TZID:America/New_York
BEGIN:DAYLIGHT
RRULE:FREQ=YEARLY;BYMONTH=3;BYDAY=2SU
DTSTART:20070101T000000
TZOFFSETFROM:-0500
TZOFFSETTO:-0400
TZNAME:Eastern Daylight Time
END:DAYLIGHT
BEGIN:STANDARD
RRULE:FREQ=YEARLY;BYMONTH=11;BYDAY=1SU
DTSTART:20070101T000000
TZOFFSETFROM:-0400
TZOFFSETTO:-0500
TZNAME:Eastern Standard Time
END:STANDARD
END:VTIMEZONE
BEGIN:VEVENT
DTSTART;TZID=America/New_York:20260423T113000
DTEND;TZID=America/New_York:20260423T143000
X-MICROSOFT-CDO-ALLDAYEVENT:FALSE
SUMMARY:Realtor Code of Ethics 3 hrs CE IN PERSON AT SIBOR OFFICE
DESCRIPTION:This class meets the NYS Ethical Business Practices requirement AND the REALTOR Code of Ethics requirement\n for cycle 8 Dec 31\, 2027.
X-ALT-DESC;FMTTYPE=text/html:This class meets the NYS Ethical Business Practices requirement AND the REALTOR Code of Ethics requirement\n for cycle 8 Dec 31\, 2027.
LOCATION:1150 South Ave Suite 303 Staten Island NY 10314
UID:e.2966.1418161
SEQUENCE:3
DTSTAMP:20260421T090542Z
URL:https://members.siborrealtors.com/education-events/Details/realtor-code-of-ethics-3-hrs-ce-in-person-at-sibor-office-1676269?sourceTypeId=Hub
END:VEVENT
END:VCALENDAR
