BEGIN:VCALENDAR
VERSION:2.0
PRODID:-//ChamberMaster//Event Calendar 2.0//EN
METHOD:PUBLISH
X-PUBLISHED-TTL:P1H
REFRESH-INTERVAL:P1H
CALSCALE:GREGORIAN
BEGIN:VTIMEZONE
TZID:America/New_York
BEGIN:DAYLIGHT
RRULE:FREQ=YEARLY;BYMONTH=3;BYDAY=2SU
DTSTART:20070101T000000
TZOFFSETFROM:-0500
TZOFFSETTO:-0400
TZNAME:Eastern Daylight Time
END:DAYLIGHT
BEGIN:STANDARD
RRULE:FREQ=YEARLY;BYMONTH=11;BYDAY=1SU
DTSTART:20070101T000000
TZOFFSETFROM:-0400
TZOFFSETTO:-0500
TZNAME:Eastern Standard Time
END:STANDARD
END:VTIMEZONE
BEGIN:VEVENT
DTSTART;TZID=America/New_York:20260408T130000
DTEND;TZID=America/New_York:20260408T140000
X-MICROSOFT-CDO-ALLDAYEVENT:FALSE
SUMMARY:RealCMA from RealReports
DESCRIPTION:This is for you if you want to create faster\, smarter CMAs that pull comps from both on- and off-MLS sales\, are fully customizable\, and generate polished presentations directly inside the RealReports platform. You’ll walk away with a clear look at how RealCMA helps you build unlimited\, beautifully designed CMAs in seconds—while capturing leads\, tracking activity\, and delivering a more modern experience for your clients.
X-ALT-DESC;FMTTYPE=text/html:This is for you if you want to create faster\, smarter CMAs that pull comps from both on- and off-MLS sales\, are fully customizable\, and generate polished presentations directly inside the RealReports platform. You’ll walk away with a clear look at how RealCMA helps you build unlimited\, beautifully designed CMAs in seconds—while capturing leads\, tracking activity\, and delivering a more modern experience for your clients.
LOCATION:
UID:e.2966.1428397
SEQUENCE:3
DTSTAMP:20260421T083917Z
URL:https://members.siborrealtors.com/education-events/Details/realcma-from-realreports-1689772?sourceTypeId=Hub
END:VEVENT
END:VCALENDAR
