BEGIN:VCALENDAR
VERSION:2.0
PRODID:-//ChamberMaster//Event Calendar 2.0//EN
METHOD:PUBLISH
X-PUBLISHED-TTL:P1H
REFRESH-INTERVAL:P1H
CALSCALE:GREGORIAN
BEGIN:VTIMEZONE
TZID:America/New_York
BEGIN:DAYLIGHT
RRULE:FREQ=YEARLY;BYMONTH=3;BYDAY=2SU
DTSTART:20070101T000000
TZOFFSETFROM:-0500
TZOFFSETTO:-0400
TZNAME:Eastern Daylight Time
END:DAYLIGHT
BEGIN:STANDARD
RRULE:FREQ=YEARLY;BYMONTH=11;BYDAY=1SU
DTSTART:20070101T000000
TZOFFSETFROM:-0400
TZOFFSETTO:-0500
TZNAME:Eastern Standard Time
END:STANDARD
END:VTIMEZONE
BEGIN:VEVENT
DTSTART;TZID=America/New_York:20260408T110000
DTEND;TZID=America/New_York:20260408T120000
X-MICROSOFT-CDO-ALLDAYEVENT:FALSE
SUMMARY:Leveraging Rentals to Boost Your Sales Leads
DESCRIPTION:Did you know that 59% of new households formed through 2030 will rent? Get ahead of this growing market segment and re-frame your services to include renters! RentSpree and SIMLS make working with renters and landlords quick and easy through an integrated solution. Join us for a webinar on Wednesday\, April 8th @ 11 AM for tips on turning today's renters into future sales leads. Don't let your aversion to rental transactions stop you from taking advantage of changing real estate trends - save your spot to learn more create a free RentSpree account. .
X-ALT-DESC;FMTTYPE=text/html:<!DOCTYPE html><html><head><title></title></head><body aria-disabled="false"><p>Did you know that 59% of new households formed through 2030 will rent? Get ahead of this growing market segment and re-frame your services to include renters! RentSpree and SIMLS make working with renters and landlords quick and easy through an integrated solution. Join us for a webinar on Wednesday\, April 8th @ 11 AM for tips on turning today&rsquo\;s renters into future sales leads. Don&rsquo\;t let your aversion to rental transactions stop you from taking advantage of changing real estate trends - <a fr-original-style="" href="https://www.rentspree.com/partner/simls?utm_campaign=simls_webinar_apr26&utm_medium=webinar&utm_source=simls" style="user-select: auto\;" target="_blank"><strong fr-original-style="" style="font-weight: 700\;">save your spot to learn more create a free RentSpree account</strong>.</a> .</p></body></html>
LOCATION:
UID:e.2966.1433936
SEQUENCE:3
DTSTAMP:20260421T084933Z
URL:https://members.siborrealtors.com/education-events/Details/leveraging-rentals-to-boost-your-sales-leads-1697432?sourceTypeId=Hub
END:VEVENT
END:VCALENDAR
