BEGIN:VCALENDAR
VERSION:2.0
PRODID:-//ChamberMaster//Event Calendar 2.0//EN
METHOD:PUBLISH
X-PUBLISHED-TTL:P1H
REFRESH-INTERVAL:P1H
CALSCALE:GREGORIAN
BEGIN:VTIMEZONE
TZID:America/New_York
BEGIN:DAYLIGHT
RRULE:FREQ=YEARLY;BYMONTH=3;BYDAY=2SU
DTSTART:20070101T000000
TZOFFSETFROM:-0500
TZOFFSETTO:-0400
TZNAME:Eastern Daylight Time
END:DAYLIGHT
BEGIN:STANDARD
RRULE:FREQ=YEARLY;BYMONTH=11;BYDAY=1SU
DTSTART:20070101T000000
TZOFFSETFROM:-0400
TZOFFSETTO:-0500
TZNAME:Eastern Standard Time
END:STANDARD
END:VTIMEZONE
BEGIN:VEVENT
DTSTART;TZID=America/New_York:20260406T160000
DTEND;TZID=America/New_York:20260406T170000
X-MICROSOFT-CDO-ALLDAYEVENT:FALSE
SUMMARY:Introduction to RPR Commercial
DESCRIPTION:RPR allows you to seamlessly locate commercial listings\, understand local consumer dynamics and help clients identify nearby Points of Interest that can affect the success of their business.\n\nYour commercial clients have needs very different from your residential clients. And RPR offers a unique set of tools and data set to address the needs of professionals working in the commercial segment of the industry.\n\nIn this webinar\, we’ll cover a variety of topics\, including:\n\n    An overview of commercial partnerships that enable you to view active commercial listings across the country.\n    Accessing details on traffic counts\, nearby businesses\, POIs and more\n    Guiding clients to make informed decisions using detailed consumer spending and demographic analysis\n    Utilizing AI tools to summarize and share data with clients\n    Accessing tenant data\n    Taking advantage of public record data to assist with prospecting efforts\n    Creating client friendly reports to share with clients\n\nWhether you’re a seasoned commercial practitioner or are new to the commercial side of the business\, RPR has resources to help build your business and save you time and money.
X-ALT-DESC;FMTTYPE=text/html:RPR allows you to seamlessly locate commercial listings\, understand local consumer dynamics and help clients identify nearby Points of Interest that can affect the success of their business.\n\nYour commercial clients have needs very different from your residential clients. And RPR offers a unique set of tools and data set to address the needs of professionals working in the commercial segment of the industry.\n\nIn this webinar\, we’ll cover a variety of topics\, including:\n\n    An overview of commercial partnerships that enable you to view active commercial listings across the country.\n    Accessing details on traffic counts\, nearby businesses\, POIs and more\n    Guiding clients to make informed decisions using detailed consumer spending and demographic analysis\n    Utilizing AI tools to summarize and share data with clients\n    Accessing tenant data\n    Taking advantage of public record data to assist with prospecting efforts\n    Creating client friendly reports to share with clients\n\nWhether you’re a seasoned commercial practitioner or are new to the commercial side of the business\, RPR has resources to help build your business and save you time and money.
LOCATION:
UID:e.2966.1436896
SEQUENCE:3
DTSTAMP:20260421T084650Z
URL:https://members.siborrealtors.com/education-events/Details/introduction-to-rpr-commercial-1700916?sourceTypeId=Hub
END:VEVENT
END:VCALENDAR
