BEGIN:VCALENDAR
VERSION:2.0
PRODID:-//ChamberMaster//Event Calendar 2.0//EN
METHOD:PUBLISH
X-PUBLISHED-TTL:P1H
REFRESH-INTERVAL:P1H
CALSCALE:GREGORIAN
BEGIN:VTIMEZONE
TZID:America/New_York
BEGIN:DAYLIGHT
RRULE:FREQ=YEARLY;BYMONTH=3;BYDAY=2SU
DTSTART:20070101T000000
TZOFFSETFROM:-0500
TZOFFSETTO:-0400
TZNAME:Eastern Daylight Time
END:DAYLIGHT
BEGIN:STANDARD
RRULE:FREQ=YEARLY;BYMONTH=11;BYDAY=1SU
DTSTART:20070101T000000
TZOFFSETFROM:-0400
TZOFFSETTO:-0500
TZNAME:Eastern Standard Time
END:STANDARD
END:VTIMEZONE
BEGIN:VEVENT
DTSTART;TZID=America/New_York:20260521T100000
DTEND;TZID=America/New_York:20260521T130000
X-MICROSOFT-CDO-ALLDAYEVENT:FALSE
SUMMARY:Commercial Overview & Investment Tips for Residential Real Estate Agents
DESCRIPTION:Become familiar with basic Commercial Concepts.  Build credibility with Commercial   you'll learn how to evaluate their unique characteristics\, assess their potential for income generation\, and understand the factors that influence their value. You’ll develop a strong understanding of commercial real estate finance\, including lease structures\, rent calculations\, and investment valuation methods and learn how to analyze cash flows\, project returns\, and assess the profitability of potential investments. The APOD financial report will be reviewed.  Plus\, gain insights into the tax implications of commercial real estate ownership\, including depreciation\, capital gains\, and other relevant tax considerations\, and understand how these factors can impact investment returns and long-term financial planning.
X-ALT-DESC;FMTTYPE=text/html:Become familiar with basic Commercial Concepts.  Build credibility with Commercial & Investment Clients.  Apply “Niche Marketing” to Commercial Listings.  Develop Clientele with Commercial Connections.  This class will go beyond simply identifying different commercial property types (office\, retail\, industrial\, multifamily)\; you'll learn how to evaluate their unique characteristics\, assess their potential for income generation\, and understand the factors that influence their value. You’ll develop a strong understanding of commercial real estate finance\, including lease structures\, rent calculations\, and investment valuation methods and learn how to analyze cash flows\, project returns\, and assess the profitability of potential investments. The APOD financial report will be reviewed.  Plus\, gain insights into the tax implications of commercial real estate ownership\, including depreciation\, capital gains\, and other relevant tax considerations\, and understand how these factors can impact investment returns and long-term financial planning.
LOCATION:
UID:e.2966.1442323
SEQUENCE:3
DTSTAMP:20260421T084932Z
URL:https://members.siborrealtors.com/education-events/Details/commercial-overview-investment-tips-for-residential-real-estate-agents-1708212?sourceTypeId=Hub
END:VEVENT
END:VCALENDAR
