BEGIN:VCALENDAR
VERSION:2.0
PRODID:-//ChamberMaster//Event Calendar 2.0//EN
METHOD:PUBLISH
X-PUBLISHED-TTL:P1H
REFRESH-INTERVAL:P1H
CALSCALE:GREGORIAN
BEGIN:VTIMEZONE
TZID:America/New_York
BEGIN:DAYLIGHT
RRULE:FREQ=YEARLY;BYMONTH=3;BYDAY=2SU
DTSTART:20070101T000000
TZOFFSETFROM:-0500
TZOFFSETTO:-0400
TZNAME:Eastern Daylight Time
END:DAYLIGHT
BEGIN:STANDARD
RRULE:FREQ=YEARLY;BYMONTH=11;BYDAY=1SU
DTSTART:20070101T000000
TZOFFSETFROM:-0400
TZOFFSETTO:-0500
TZNAME:Eastern Standard Time
END:STANDARD
END:VTIMEZONE
BEGIN:VEVENT
DTSTART;TZID=America/New_York:20260615T173000
DTEND;TZID=America/New_York:20260715T213000
X-MICROSOFT-CDO-ALLDAYEVENT:FALSE
SUMMARY:Broker Pre Licensing Course
DESCRIPTION:Broker licensing 75 hour course Zoom class. Monday thru Thursday\, 5:30 - 9:30\, Final exam at SIBOR Office 1150 South Ave\, Suite 303This class gives all of the required CE for your license renewal EXCEPT the required Ethical Business Practices (2.5 hours) and Recent Legal Matters (1 hour) classes. You must still take those.Please be aware that the current DOS requirements for a Real Estate Brokers license require you to have 152 hours of class time. This is comprised of: a 77 hour salesperson course and the 75 hour broker course.\nIf you took the 45 hour salesperson class (increased to 75 hours July 1\, 2008) you will need to take the 30 hour salesperson supplemental course plus a 2 hour Fair Housing OR Implicit Bias class. If you took the 75 hour salesperson class (increased to 77 hours Dec 2022) you will need a 2 hour Fair Housing OR Implicit Bias class as well.
X-ALT-DESC;FMTTYPE=text/html:<!DOCTYPE html><html><head><title></title></head><body aria-disabled="false"><p>Broker licensing 75 hour course Zoom class. Monday thru Thursday\, 5:30 - 9:30\, Final exam at SIBOR Office 1150 South Ave\, Suite 303</p><p>This class gives all of the required CE for your license renewal <strong fr-original-style="" style="font-weight: 700\;"><u>EXCEPT&nbsp\;</u></strong>the required Ethical Business Practices (2.5 hours) and Recent Legal Matters (1 hour) classes. You must still take those.</p><p>Please be aware that the current DOS requirements for a Real Estate Brokers license require you to have 152 hours of class time. This is comprised of: a 77 hour salesperson course and the 75 hour broker course.<br>If you took the 45 hour salesperson class (increased to 75 hours July 1\, 2008) you will need to take the 30 hour salesperson supplemental course plus a 2 hour Fair Housing OR Implicit Bias class. If you took the 75 hour salesperson class (increased to 77 hours Dec 2022) you will need a 2 hour Fair Housing OR Implicit Bias class as well.</p></body></html>
LOCATION:
UID:e.2966.1431529
SEQUENCE:3
DTSTAMP:20260421T083725Z
URL:https://members.siborrealtors.com/education-events/Details/broker-pre-licensing-course-1694208?sourceTypeId=Hub
END:VEVENT
END:VCALENDAR
